BEGIN:VCALENDAR
VERSION:2.0
PRODID:-//Limpa Brasil - ECPv6.15.10//NONSGML v1.0//EN
CALSCALE:GREGORIAN
METHOD:PUBLISH
X-ORIGINAL-URL:https://limpabrasil.org
X-WR-CALDESC:Eventos para Limpa Brasil
REFRESH-INTERVAL;VALUE=DURATION:PT1H
X-Robots-Tag:noindex
X-PUBLISHED-TTL:PT1H
BEGIN:VTIMEZONE
TZID:America/Sao_Paulo
BEGIN:STANDARD
TZOFFSETFROM:-0200
TZOFFSETTO:-0300
TZNAME:-03
DTSTART:20170219T020000
END:STANDARD
BEGIN:DAYLIGHT
TZOFFSETFROM:-0300
TZOFFSETTO:-0200
TZNAME:-02
DTSTART:20171015T030000
END:DAYLIGHT
BEGIN:STANDARD
TZOFFSETFROM:-0200
TZOFFSETTO:-0300
TZNAME:-03
DTSTART:20180218T020000
END:STANDARD
BEGIN:DAYLIGHT
TZOFFSETFROM:-0300
TZOFFSETTO:-0200
TZNAME:-02
DTSTART:20181104T030000
END:DAYLIGHT
BEGIN:STANDARD
TZOFFSETFROM:-0200
TZOFFSETTO:-0300
TZNAME:-03
DTSTART:20190217T020000
END:STANDARD
END:VTIMEZONE
BEGIN:VEVENT
DTSTART;TZID=America/Sao_Paulo:20180905T090000
DTEND;TZID=America/Sao_Paulo:20180905T120000
DTSTAMP:20260423T054509
CREATED:20180905T142546Z
LAST-MODIFIED:20180905T142546Z
UID:19323-1536138000-1536148800@limpabrasil.org
SUMMARY:SC - Blumenau - Ribeirão Fortaleza
DESCRIPTION:Mutirão Dia Mundia de Limpeza – Movimento Let’s Do It! – Limpa Brasil. \nConcentração:Padaria Fortaleza – Rua Francisco Vahldieck\, 704 sl 1
URL:https://limpabrasil.org/evento/sc-blumenau-ribeirao-fortaleza/
LOCATION:Ribeirão Fortaleza\, Blumenau\, SC\, Brasil
END:VEVENT
BEGIN:VEVENT
DTSTART;TZID=America/Sao_Paulo:20180906T090000
DTEND;TZID=America/Sao_Paulo:20180906T110000
DTSTAMP:20260423T054509
CREATED:20180906T161812Z
LAST-MODIFIED:20180906T162023Z
UID:19389-1536224400-1536231600@limpabrasil.org
SUMMARY:GO - Anápolis -Bairro Filóstro Machado
DESCRIPTION:Mutirão Dia Mundia de Limpeza – Movimento Let’s Do It! – Limpa Brasil
URL:https://limpabrasil.org/evento/go-anapolis-bairro-filostro-machado/
LOCATION:Bairro Filóstro Machado\, Bairro Filóstro Machado\, Anápolis\, GO\, Brasil
END:VEVENT
BEGIN:VEVENT
DTSTART;TZID=America/Sao_Paulo:20180907T090000
DTEND;TZID=America/Sao_Paulo:20180907T120000
DTSTAMP:20260423T054509
CREATED:20180906T162446Z
LAST-MODIFIED:20180906T162446Z
UID:19393-1536310800-1536321600@limpabrasil.org
SUMMARY:GO - Anápolis - Avenida Goiás
DESCRIPTION:Mutirão Dia Mundia de Limpeza – Movimento Let’s Do It! – Limpa Brasil. \n 
URL:https://limpabrasil.org/evento/go-anapolis-avenida-goias/
LOCATION:Avenida Goiás\, Avenida Goiás\, Anápolis\, GO\, Brasil
END:VEVENT
BEGIN:VEVENT
DTSTART;TZID=America/Sao_Paulo:20180910T090000
DTEND;TZID=America/Sao_Paulo:20180910T120000
DTSTAMP:20260423T054509
CREATED:20180910T171903Z
LAST-MODIFIED:20180910T171903Z
UID:19426-1536570000-1536580800@limpabrasil.org
SUMMARY:BA - Prado - Praia do Coqueiral
DESCRIPTION:Mutirão Dia Mundia de Limpeza – Movimento Let’s Do It! – Limpeza de Praias \nConcentração: Barraca do Régis – \nAção: Limpeza do trecho Praia do Coqueiral até a Barra do Rio JUCURUÇU incluindo restinga e manguezal. \nInformações: Todos de camisa branca. Cada um  levará sua garrafinha de água\, seu lanche\, 4 sacos de lixo de 100 l e luva\, pois na restinga tem espinho. \n 
URL:https://limpabrasil.org/evento/ba-prado-praia-do-coqueiral/
LOCATION:Praia do Coqueiral\, Praia do Coqueiral\, Prado\, BA\, Brasil
ORGANIZER;CN="M%C3%A1rcia Pereira da Silva":MAILTO:caminhosdabahia@hotmail.com
END:VEVENT
BEGIN:VEVENT
DTSTART;TZID=America/Sao_Paulo:20180914T083000
DTEND;TZID=America/Sao_Paulo:20180914T120000
DTSTAMP:20260423T054509
CREATED:20180913T131613Z
LAST-MODIFIED:20180913T131613Z
UID:19517-1536913800-1536926400@limpabrasil.org
SUMMARY:DF - Brasília - Parque Vivencial do Lago Norte
DESCRIPTION:Mutirão Dia Mundia de Limpeza – Movimento Let’s Do It! – Limpa Brasil. \nAtividade:  Limpeza próxima à obra da saída norte\, na ponte do Bragueto.
URL:https://limpabrasil.org/evento/df-brasilia-parque-vivencial-do-lago-norte/
LOCATION:Parque Vivencial do Lago Norte\, St. de Habitações Individuais Norte QL 2 - Lago Norte\, Brasília\, DF\, Brasil
END:VEVENT
BEGIN:VEVENT
DTSTART;TZID=America/Sao_Paulo:20180914T093000
DTEND;TZID=America/Sao_Paulo:20180914T120000
DTSTAMP:20260423T054509
CREATED:20180905T153010Z
LAST-MODIFIED:20180905T153010Z
UID:19359-1536917400-1536926400@limpabrasil.org
SUMMARY:SP - São Paulo - Parque Juliana de Carvalho Torres
DESCRIPTION:Mutirão Dia Mundia de Limpeza – Movimento Let’s Do It! – Limpa Brasil. \nAção de educação ambiental realizada para alunos da escola EMEF Profª Maria Alice Borges Ghion.
URL:https://limpabrasil.org/evento/sp-sao-paulo-parque-juliana-de-carvalho-torres/
LOCATION:Parque Juliana de Carvalho Torres\, ravessa Córrego da independência - Cohab Raposo Tavares\, São Paulo\, SP\, Brasil
ORGANIZER;CN="Limpa Brasil":MAILTO:atendimento@limpabrasil.org
END:VEVENT
BEGIN:VEVENT
DTSTART;TZID=America/Sao_Paulo:20180914T140000
DTEND;TZID=America/Sao_Paulo:20180914T180000
DTSTAMP:20260423T054509
CREATED:20180905T152104Z
LAST-MODIFIED:20180905T152104Z
UID:19356-1536933600-1536948000@limpabrasil.org
SUMMARY:SP - São Paulo - EMEI Educadora Nida Maldi Corazza
DESCRIPTION:Mutirão Dia Mundia de Limpeza – Movimento Let’s Do It! – Limpa Brasil. \nAção de educação ambiental realizada somente para alunos da escola.
URL:https://limpabrasil.org/evento/sp-sao-paulo-emei-educadora-nida-maldi-corazza/
LOCATION:EMEI Educadora Nida\, R. Profa. Abigail Alves Píres\, 76 - Rio Pequeno\, São Paulo\, SP\, Brasil
END:VEVENT
BEGIN:VEVENT
DTSTART;VALUE=DATE:20180915
DTEND;VALUE=DATE:20180916
DTSTAMP:20260423T054509
CREATED:20180828T162722Z
LAST-MODIFIED:20180828T162722Z
UID:19174-1536969600-1537055999@limpabrasil.org
SUMMARY:Dia Mundial da Limpeza #worldcleanupday2018
DESCRIPTION:
URL:https://limpabrasil.org/evento/dia-mundial-da-limpeza-worldcleanupday2018/
LOCATION:Brasil
ATTACH;FMTTYPE=image/png:https://limpabrasil.org/wp-content/uploads/2018/08/FB_post_01.png
END:VEVENT
BEGIN:VEVENT
DTSTART;TZID=America/Sao_Paulo:20180915T000000
DTEND;TZID=America/Sao_Paulo:20180915T000000
DTSTAMP:20260423T054509
CREATED:20180910T170042Z
LAST-MODIFIED:20180910T170042Z
UID:19415-1536969600-1536969600@limpabrasil.org
SUMMARY:PE - Caruaru - Praça Drayton Nejaim
DESCRIPTION:Mutirão Dia Mundia de Limpeza – Movimento Let’s Do It! – Limpa Brasil.\n\n\n\nConcentração: Praça Drayton Nejaim
URL:https://limpabrasil.org/evento/pe-caruaru-praca-drayton-nejaim/
LOCATION:Praça Drayton Nejaim\, Praça Drayton Nejaim\, Caruaru\, PE\, Brasil
END:VEVENT
BEGIN:VEVENT
DTSTART;TZID=America/Sao_Paulo:20180915T000000
DTEND;TZID=America/Sao_Paulo:20180915T000000
DTSTAMP:20260423T054509
CREATED:20180910T170243Z
LAST-MODIFIED:20180910T170243Z
UID:19422-1536969600-1536969600@limpabrasil.org
SUMMARY:PE - Caruaru - Parque Ambientalista Severino Montenegro
DESCRIPTION:Mutirão Dia Mundia de Limpeza – Movimento Let’s Do It! – Limpeza de Praias \nConcentração: Parque Ambientalista Severino Montenegro
URL:https://limpabrasil.org/evento/pe-caruaru-parque-ambientalista-severino-montenegro/
LOCATION:Parque Ambientalista Severino Montenegro\, Parque Ambientalista Severino Montenegro\, Caruaru\, PE\, Brasil
END:VEVENT
BEGIN:VEVENT
DTSTART;TZID=America/Sao_Paulo:20180915T000000
DTEND;TZID=America/Sao_Paulo:20180915T000000
DTSTAMP:20260423T054509
CREATED:20180913T125442Z
LAST-MODIFIED:20180913T125442Z
UID:19508-1536969600-1536969600@limpabrasil.org
SUMMARY:GO - Valparaíso de Goiás - Cachoeira dos Anjos
DESCRIPTION:Mutirão Dia Mundia de Limpeza – Movimento Let’s Do It! – Limpa Brasil. \nConcentração: Cachoeira dos Anjos -Próximo ao cemitério.
URL:https://limpabrasil.org/evento/go-valparaiso-de-goias-cachoeira-dos-anjos/
LOCATION:Cachoeira dos Anjos\, 15°59'33. 48°04'55.\, R. 7\, 4\, Valparaíso de Goiás - GO\, Valparaíso de Goiás\, GO\, Brasil
END:VEVENT
BEGIN:VEVENT
DTSTART;TZID=America/Sao_Paulo:20180915T000000
DTEND;TZID=America/Sao_Paulo:20180915T000000
DTSTAMP:20260423T054509
CREATED:20180913T125903Z
LAST-MODIFIED:20180913T125903Z
UID:19513-1536969600-1536969600@limpabrasil.org
SUMMARY:DF - Brasília - Parque de Águas Claras
DESCRIPTION:Mutirão Dia Mundia de Limpeza – Movimento Let’s Do It! – Limpa Brasil. \nConcentração: Parque de Águas Claras
URL:https://limpabrasil.org/evento/df-brasilia-parque-de-aguas-claras/
LOCATION:Parque de Águas Claras.\, Parque de Águas Claras\, Brasília\, DF\, Brasil
END:VEVENT
BEGIN:VEVENT
DTSTART;TZID=America/Sao_Paulo:20180915T000000
DTEND;TZID=America/Sao_Paulo:20180915T000000
DTSTAMP:20260423T054509
CREATED:20180913T132721Z
LAST-MODIFIED:20180913T132721Z
UID:19525-1536969600-1536969600@limpabrasil.org
SUMMARY:DF - Brasília - Horta Comunitária do Guará
DESCRIPTION:Mutirão Dia Mundia de Limpeza – Movimento Let’s Do It! – Limpa Brasil. \nConcentração: Entorno da Horta Comunitária do Guará
URL:https://limpabrasil.org/evento/df-brasilia-horta-comunitaria-do-guara/
LOCATION:Horta Comunitária do Guará\, QE 38\, Conj. O\, Guará II\, Brasília\, DF\, Brasil
END:VEVENT
BEGIN:VEVENT
DTSTART;TZID=America/Sao_Paulo:20180915T000000
DTEND;TZID=America/Sao_Paulo:20180915T000000
DTSTAMP:20260423T054509
CREATED:20180913T133142Z
LAST-MODIFIED:20180913T133142Z
UID:19531-1536969600-1536969600@limpabrasil.org
SUMMARY:DF - Brasília - Parque Denner
DESCRIPTION:Mutirão Dia Mundia de Limpeza – Movimento Let’s Do It! – Limpa Brasil. \nAtividade: Limpeza e recolhimento do lixo do parque com apoio dos funcionários da Zero Impacto
URL:https://limpabrasil.org/evento/df-brasilia-parque-denner/
LOCATION:Parque Denner\, SRIA II (Polo de Moda) - Guará\, Brasília - DF\, 71070-172\, Brasília\, DF\, Brasil
END:VEVENT
BEGIN:VEVENT
DTSTART;TZID=America/Sao_Paulo:20180915T000000
DTEND;TZID=America/Sao_Paulo:20180915T000000
DTSTAMP:20260423T054509
CREATED:20180913T161230Z
LAST-MODIFIED:20180913T161247Z
UID:19540-1536969600-1536969600@limpabrasil.org
SUMMARY:DF - Brasília - Parque Morro da Asa Delta
DESCRIPTION:Mutirão Dia Mundia de Limpeza – Movimento Let’s Do It! – Limpa Brasil. \n 
URL:https://limpabrasil.org/evento/df-brasilia-parque-morro-da-asa-delta/
LOCATION:Parque Morro da Asa Delta\, St. de Habitações Individuais Sul\, Brasília\, DF\, Brasil
END:VEVENT
BEGIN:VEVENT
DTSTART;TZID=America/Sao_Paulo:20180915T070000
DTEND;TZID=America/Sao_Paulo:20180915T130000
DTSTAMP:20260423T054509
CREATED:20180911T144256Z
LAST-MODIFIED:20180911T144256Z
UID:19443-1536994800-1537016400@limpabrasil.org
SUMMARY:ES - Anchieta - Praias da APA Tartarugas
DESCRIPTION:Mutirão Dia Mundia de Limpeza – Movimento Let’s Do It! – Limpa Brasil \nConcentração: Sede – em Frente ao Centro Cultural onde ás 07:00 horas da manhã partirá um ônibus para levar os grupos aos pontos de Partida de cada percurso. \nPercursos 01 – Partida da Praça da Ponta dos Castelhanos (na praia\, próximo à subida que dá acesso a Praia Boca da Baleia). \nPercurso 02 – Partida da Praia de Parati. \nObs: Os participantes que quiserem\, podem esperar o grupo direto nos locais de partida.
URL:https://limpabrasil.org/evento/es-anchieta-praias-da-apa-tartarugas/
LOCATION:Praias da APA Tartarugas\, Praias da APA Tartarugas\, Anchieta\, ES\, Brasil
ORGANIZER;CN="Secretaria de Meio Ambiente do Munic%C3%ADpio de Anchieta no Estado do Esp%C3%ADrito Santo":MAILTO:hzuchi93@gmail.com
END:VEVENT
BEGIN:VEVENT
DTSTART;TZID=America/Sao_Paulo:20180915T070000
DTEND;TZID=America/Sao_Paulo:20180915T140000
DTSTAMP:20260423T054509
CREATED:20180912T183544Z
LAST-MODIFIED:20180912T183723Z
UID:19498-1536994800-1537020000@limpabrasil.org
SUMMARY:BA - Valença - Praia de Guaibim
DESCRIPTION:Mutirão Dia Mundia de Limpeza – Movimento Let’s Do It! – Limpa Brasil. \nConcentração: Praia de Guaibim \n 
URL:https://limpabrasil.org/evento/ba-valenca-praia-de-guaibim/
LOCATION:Praia de Guaibim\, Praia de Guaibim\, Valença\, BA\, Brasil
END:VEVENT
BEGIN:VEVENT
DTSTART;TZID=America/Sao_Paulo:20180915T080000
DTEND;TZID=America/Sao_Paulo:20180915T080000
DTSTAMP:20260423T054509
CREATED:20180906T180913Z
LAST-MODIFIED:20180910T170053Z
UID:19408-1536998400-1536998400@limpabrasil.org
SUMMARY:AL - Maceió - Pajuçara
DESCRIPTION:Mutirão Dia Mundia de Limpeza – Movimento Let’s Do It! – Limpeza de Praias \nConcentração: Balança do Peixe – Pajuçara
URL:https://limpabrasil.org/evento/al-maceio-pajucara/
LOCATION:Balança do Peixe\, Balança do Peixe\, Pajuçara\, Maceió\, AL\, Brasil
END:VEVENT
BEGIN:VEVENT
DTSTART;TZID=America/Sao_Paulo:20180915T080000
DTEND;TZID=America/Sao_Paulo:20180915T080000
DTSTAMP:20260423T054509
CREATED:20180906T181242Z
LAST-MODIFIED:20180910T163421Z
UID:19411-1536998400-1536998400@limpabrasil.org
SUMMARY:AL - Maceió - Jatiúca
DESCRIPTION:Mutirão Dia Mundia de Limpeza – Movimento Let’s Do It! – Limpeza de Praias \nConcentração: Posto 7 – Jatiúca
URL:https://limpabrasil.org/evento/al-maceio-jatiuca/
LOCATION:Posto 7\, Posto 7\, Jatiúca\, Maceió\, AL\, Brasil
END:VEVENT
BEGIN:VEVENT
DTSTART;TZID=America/Sao_Paulo:20180915T080000
DTEND;TZID=America/Sao_Paulo:20180915T080000
DTSTAMP:20260423T054509
CREATED:20180912T124041Z
LAST-MODIFIED:20180912T124041Z
UID:19462-1536998400-1536998400@limpabrasil.org
SUMMARY:RN - Mossoró - Faculdade UNINASSAU
DESCRIPTION:Mutirão Dia Mundia de Limpeza – Movimento Let’s Do It! – Limpeza de Praias \nConcentração: Uninassau Mossoró (colégio Pequeno Príncipe)\, ao lado da Cobal.
URL:https://limpabrasil.org/evento/rn-mossoro-faculdade-uninassau/
LOCATION:Faculdade UNINASSAU Mossoró\, Rua Marechal Floreano\, 39 - Paredões\, Mossoró\, RN\, Brasil
END:VEVENT
BEGIN:VEVENT
DTSTART;TZID=America/Sao_Paulo:20180915T080000
DTEND;TZID=America/Sao_Paulo:20180915T080000
DTSTAMP:20260423T054509
CREATED:20180912T150227Z
LAST-MODIFIED:20180912T150227Z
UID:19477-1536998400-1536998400@limpabrasil.org
SUMMARY:MA - São Luís - Prolongamento da Av. Litorânea
DESCRIPTION:Mutirão Dia Mundia de Limpeza – Movimento Let’s Do It! – Limpa Brasil. \nConcentração: Prolongamento da Av. Litorânea
URL:https://limpabrasil.org/evento/ma-sao-luis-prolongamento-da-av-litoranea/
LOCATION:Prolongamento da Av. Litorânea\, Prolongamento da Av. Litorânea\, Calhau\, São Luís\, MA\, Brasil
ORGANIZER;CN="Comit%C3%AA Gestor de Limpeza Urbana de S%C3%A3o Lu%C3%ADs%2C MA":MAILTO:comitedelimpeza@gmail.com
END:VEVENT
BEGIN:VEVENT
DTSTART;TZID=America/Sao_Paulo:20180915T080000
DTEND;TZID=America/Sao_Paulo:20180915T100000
DTSTAMP:20260423T054509
CREATED:20180911T161533Z
LAST-MODIFIED:20180911T161533Z
UID:19448-1536998400-1537005600@limpabrasil.org
SUMMARY:AM - Manaus - Praia da Ponta Negra
DESCRIPTION:Mutirão Dia Mundia de Limpeza – Movimento Let’s Do It! – Limpa Brasil. \nConcentração: Praia da Ponta Negra
URL:https://limpabrasil.org/evento/am-manaus-praia-da-ponta-negra/
LOCATION:Praia da Ponta Negra\, Praia da Ponta Negra\, Manuas\, AM\, Brasil
END:VEVENT
BEGIN:VEVENT
DTSTART;TZID=America/Sao_Paulo:20180915T080000
DTEND;TZID=America/Sao_Paulo:20180915T110000
DTSTAMP:20260423T054509
CREATED:20180911T130332Z
LAST-MODIFIED:20180911T130332Z
UID:19436-1536998400-1537009200@limpabrasil.org
SUMMARY:PE - Recife - Estrada da Mumbeca
DESCRIPTION:Mutirão Dia Mundia de Limpeza – Movimento Let’s Do It! – Limpeza de Praias \nConcentração: Na Estrada da Mumbeca\, em frente ao número 170
URL:https://limpabrasil.org/evento/pe-recife-estrada-da-mumbeca/
LOCATION:Estrada da Mumbeca\, Na Estrada da Mumbeca\, 170\, Bola na Rede \, Guabiraba\, Recife\, PE\, Brasil
ORGANIZER;CN="Projeto Ritmo do Cora%C3%A7%C3%A3o":MAILTO:oliveira123walkiria@gmail.com
END:VEVENT
BEGIN:VEVENT
DTSTART;TZID=America/Sao_Paulo:20180915T080000
DTEND;TZID=America/Sao_Paulo:20180915T113000
DTSTAMP:20260423T054509
CREATED:20180904T171119Z
LAST-MODIFIED:20180904T171119Z
UID:19277-1536998400-1537011000@limpabrasil.org
SUMMARY:GO - Goiânia - Parque Vaca Brava
DESCRIPTION:Mutirão Dia Mundia de Limpeza – Movimento Let’s Do It! – Limpa Brasil. \nConcentração: Parque Vaca Brava
URL:https://limpabrasil.org/evento/go-goiania-parque-vaca-brava/
LOCATION:Parque Vaca Brava\, Av. T-10\, s/n - St. Bueno\, Goiânia\, GO\, Brasil
ORGANIZER;CN="N%C3%B3s + %C3%81rvores":MAILTO:nosmaisarvores@gmail.com
END:VEVENT
BEGIN:VEVENT
DTSTART;TZID=America/Sao_Paulo:20180915T080000
DTEND;TZID=America/Sao_Paulo:20180915T113000
DTSTAMP:20260423T054509
CREATED:20180904T172041Z
LAST-MODIFIED:20180904T172041Z
UID:19285-1536998400-1537011000@limpabrasil.org
SUMMARY:GO - Goiânia - Morro do Serrinha
DESCRIPTION:Mutirão Dia Mundia de Limpeza – Movimento Let’s Do It! – Limpa Brasil. \nConcentração: Morro do Serrinha
URL:https://limpabrasil.org/evento/go-goiania-morro-do-serrinha/
LOCATION:Morro do Serrinha\, R. 1112\, 100 - Serrinha\, Goiânia\, GO\, Brasil
ORGANIZER;CN="N%C3%B3s + %C3%81rvores - Nath%C3%A1lia Machado":MAILTO:nosmaisarvores@gmail.com
END:VEVENT
BEGIN:VEVENT
DTSTART;TZID=America/Sao_Paulo:20180915T080000
DTEND;TZID=America/Sao_Paulo:20180915T120000
DTSTAMP:20260423T054509
CREATED:20180904T153942Z
LAST-MODIFIED:20180904T155127Z
UID:19229-1536998400-1537012800@limpabrasil.org
SUMMARY:BA - Salvador - Ribeira
DESCRIPTION:Mutirão Dia Mundia de Limpeza – Movimento Let’s do It! – Limpa Brasil \nConcentração: RIBEIRA – Praça Padre Francisco Dórea – Avenida Beira-Mar\, 519
URL:https://limpabrasil.org/evento/ba-salvador-ribeira/
LOCATION:Praça Padre Francisco Dórea\, Praça Padre Francisco Dórea\, Salvador\, BA\, 40420-610\, Brasil
END:VEVENT
BEGIN:VEVENT
DTSTART;TZID=America/Sao_Paulo:20180915T080000
DTEND;TZID=America/Sao_Paulo:20180915T120000
DTSTAMP:20260423T054509
CREATED:20180904T154505Z
LAST-MODIFIED:20180904T154505Z
UID:19232-1536998400-1537012800@limpabrasil.org
SUMMARY:BA - Salvador - Cajazeiras 8
DESCRIPTION:Mutirão Dia Mundia de Limpeza – Movimento Lets do It! – Limpa Brasil . \nConcentração: R. Direta da Mangabeira – Cajazeiras 8
URL:https://limpabrasil.org/evento/ba-salvador-cajazeiras-8/
LOCATION:Cajazeiras 8\, R. Direta da Mangabeira - Cajazeiras 8\, Salvador\, BA\, Brasil
ORGANIZER;CN="Limpa Brasil":MAILTO:atendimento@limpabrasil.org
END:VEVENT
BEGIN:VEVENT
DTSTART;TZID=America/Sao_Paulo:20180915T080000
DTEND;TZID=America/Sao_Paulo:20180915T120000
DTSTAMP:20260423T054509
CREATED:20180904T155435Z
LAST-MODIFIED:20180904T155435Z
UID:19241-1536998400-1537012800@limpabrasil.org
SUMMARY:BA - Salvador - Itapuã
DESCRIPTION:Mutirão Dia Mundia de Limpeza – Movimento Let’s do It! – Limpa Brasil \nConcentração: Praça Dorival Caymmi
URL:https://limpabrasil.org/evento/ba-salvador-itapua/
LOCATION:Itapuã\, Praça Dorival Caymmi\, Salvador\, BA\, Brasil
END:VEVENT
BEGIN:VEVENT
DTSTART;TZID=America/Sao_Paulo:20180915T080000
DTEND;TZID=America/Sao_Paulo:20180915T120000
DTSTAMP:20260423T054509
CREATED:20180904T155646Z
LAST-MODIFIED:20180904T155646Z
UID:19244-1536998400-1537012800@limpabrasil.org
SUMMARY:BA - Salvador - Suburbana
DESCRIPTION:Mutirão Dia Mundia de Limpeza – Movimento Let’s Do It! – Limpa Brasil. \nConcentração: Praça de São Tomé de Paripe \n 
URL:https://limpabrasil.org/evento/ba-salvador-suburbana/
LOCATION:Suburbana\, Praça de São Tomé de Paripe\, Salvador\, BA\, Brasil
ORGANIZER;CN="Limpa Brasil":MAILTO:atendimento@limpabrasil.org
END:VEVENT
BEGIN:VEVENT
DTSTART;TZID=America/Sao_Paulo:20180915T080000
DTEND;TZID=America/Sao_Paulo:20180915T120000
DTSTAMP:20260423T054509
CREATED:20180904T160052Z
LAST-MODIFIED:20180904T160122Z
UID:19247-1536998400-1537012800@limpabrasil.org
SUMMARY:BA - Salvador - Pituba
DESCRIPTION:Mutirão Dia Mundia de Limpeza – Movimento Let’s Do It! – Limpa Brasil. \nConcentração: Praia do Jardim de Alah
URL:https://limpabrasil.org/evento/ba-salvador-pituba/
LOCATION:Pituba\, Praia do Jardim de Alah\, Salvador\, BA\, Brasil
ORGANIZER;CN="Limpa Brasil":MAILTO:atendimento@limpabrasil.org
END:VEVENT
END:VCALENDAR