BEGIN:VCALENDAR
VERSION:2.0
PRODID:-//Limpa Brasil - ECPv6.15.10//NONSGML v1.0//EN
CALSCALE:GREGORIAN
METHOD:PUBLISH
X-ORIGINAL-URL:https://limpabrasil.org
X-WR-CALDESC:Eventos para Limpa Brasil
REFRESH-INTERVAL;VALUE=DURATION:PT1H
X-Robots-Tag:noindex
X-PUBLISHED-TTL:PT1H
BEGIN:VTIMEZONE
TZID:America/Sao_Paulo
BEGIN:STANDARD
TZOFFSETFROM:-0200
TZOFFSETTO:-0300
TZNAME:-03
DTSTART:20190217T020000
END:STANDARD
END:VTIMEZONE
BEGIN:VEVENT
DTSTART;TZID=America/Sao_Paulo:20200208T090000
DTEND;TZID=America/Sao_Paulo:20200208T120000
DTSTAMP:20260424T104408
CREATED:20200128T190442Z
LAST-MODIFIED:20200128T190559Z
UID:20239-1581152400-1581163200@limpabrasil.org
SUMMARY:Mutirão de Limpeza na Praia do Itararé (São Vicente/SP)
DESCRIPTION:Atenção São Vicente! 📢 Participe do mutirão de limpeza na Praia do Itararé\, dia 8 de fevereiro a partir das 9h. Convide seus amigos e sua família e vem com a gente!\n\n\nLocal: Praia do Itararé/Milionários\nPonto de Encontro: Ilha Porchat Clube (Alameda Paulo Gonçalves\, 61 – Ilha Porchat\, São Vicente – SP\, 11320-350)\n\n\nSua participação te garante um certificado de 5h para horas complementares da universidade e moedas Gooders que podem ser trocadas por descontos e benefícios em diversos parceiros. Para garantir faça um cadastro no link abaixo. Vem fazer o bem com a gente!\n\n\n➡️ Cadastre-se: https://is.gd/LimpaSVSP1\n\n\nPor uma São Vicente + Sustentável 🌱\n\n\n📆 Fique por dentro da agenda de ações do Limpa Brasil: http://www.limpabrasil.org/agenda\n\n\nPROGRAMAÇÃO:\n09:00 – Concentração\n09:10 – Orientação e distribuição dos IPI’s\n09h30 – Formação dos Grupos\n09h45 – Início do mutirão\n11h00 – Início da Triagem dos resíduos e quantificação por item\n12h00 – Encerramento da atividade
URL:https://limpabrasil.org/evento/mutirao-de-limpeza-na-praia-do-itarare-sao-vicente-sp/
LOCATION:Praia do Itararé\, Alameda Paulo Gonçalves\, 61 - Ilha Porchat\, São Vicente\, SP\, 11320-350\, Brasil
ORGANIZER;CN="Instituto Limpa Brasil":MAILTO:contato@limpabrasil.org
END:VEVENT
BEGIN:VEVENT
DTSTART;TZID=America/Sao_Paulo:20200215T090000
DTEND;TZID=America/Sao_Paulo:20200215T110000
DTSTAMP:20260424T104408
CREATED:20200203T155439Z
LAST-MODIFIED:20200205T182218Z
UID:20265-1581757200-1581764400@limpabrasil.org
SUMMARY:Mutirão de Limpeza #EuCuidodoMeuQuadrado - São Joaquim - SP
DESCRIPTION:No dia 15/02/2020 acontecerá um mutirão de limpeza na São Joaquim – SP. Seja um(a) voluntário(a)\, ganhe Gooders e certificado de 5h válido para horas complementares da universidade. Participe! \nCadastre-se na Gooders clicando em “Quero Participar” e garanta suas moedas por fazer o bem: https://is.gd/LimpaSP3 \nVamos juntos transformar nossa cidade! \n  \n 
URL:https://limpabrasil.org/evento/mutirao-de-limpeza-eucuidodomeuquadrado-sao-joaquim-sp/
LOCATION:Rua São Joaquim\, 105 – São Paulo\, Rua São Joaquim\, 105\, São Paulo\, SP\, Brasil
ORGANIZER;CN="Instituto Limpa Brasil":MAILTO:contato@limpabrasil.org
END:VEVENT
BEGIN:VEVENT
DTSTART;TZID=America/Sao_Paulo:20200215T120000
DTEND;TZID=America/Sao_Paulo:20200215T180000
DTSTAMP:20260424T104408
CREATED:20200203T154455Z
LAST-MODIFIED:20200203T154455Z
UID:20260-1581768000-1581789600@limpabrasil.org
SUMMARY:Voluntário Ambiental no Bloco É o que Faltava
DESCRIPTION:Todos os voluntários cadastrados no link abaixo receberão 10 moedas Gooders e um certificado de participação de 10h valido para horas complementares da universidade: Link em breve \n  \nSEJA UM VOLUNTÁRIO PELO MEIO AMBIENTE NESTE CARNAVAL!\nAgora é pra valer! O Bloco É O Que Faltava está na programação oficial dos Blocos de Rua do Carnaval 2020 da Cidade de São Paulo e abre alas para a folia em Santo Amaro. O Bloco sai no dia 15/02\, das 13h às 18h\, com concentração na rua Luiz Seraphico Júnior com a avenida Alceu Maynard de Araújo\, (ao lado da Nossa Praça e Ponte Laguna). \nAtividades dos voluntários:\n1 – Apoiar catadores de material reciclável; \n2 – Gerenciar suporte Niltex; \n3 – Ajudar na troca de material reciclável por brindes; \n4 – Mutirão de Limpeza. \n  \nNESTE CARNAVAL JOGUE O LIXO NO LIXO \nUm dos bonecos gigantes do bloco é o menino Paulinho\, protetor do meio ambiente\, e seu maior sonho é ver o Rio Pinheiros limpo para poder nadar como seu avô conta que nadava antigamente. E uma das bandeiras do Paulinho e do Coletivo Amo Meu Bairro será de um Carnaval limpo\, leve e solto. Então aí vai algumas dicas para cair na folia: \n– Jogue seu lixo no lixo! (leve uma sacolinha\, incentive os amigos! Vamos cuidar da nossa cidade) \n– Respeite a todos! \n– Cuide de você\, bebendo muita água\, passando protetor solar e se divirta com moderação! \nPara um mundo melhor\, a mudança tem que começar por você. \nQue este Carnaval seja uma folia de paz\, amor\, confraternização\, alegria e muito respeito.
URL:https://limpabrasil.org/evento/voluntario-ambiental-no-bloco-e-o-que-faltava/
LOCATION:Rua Luiz Seraphico Júnior\, Rua Luiz Seraphico Júnior\, Jardim Caravelas\, São Paulo\, SP\, Brasil
ATTACH;FMTTYPE=image/png:https://limpabrasil.org/wp-content/uploads/2020/02/Bloco.png
ORGANIZER;CN="Instituto Limpa Brasil":MAILTO:contato@limpabrasil.org
END:VEVENT
BEGIN:VEVENT
DTSTART;TZID=America/Sao_Paulo:20200229T150000
DTEND;TZID=America/Sao_Paulo:20200229T170000
DTSTAMP:20260424T104408
CREATED:20200212T200324Z
LAST-MODIFIED:20200212T200324Z
UID:20283-1582988400-1582995600@limpabrasil.org
SUMMARY:#EuCuidoDoMeuQuadrado: Mutirão de Limpeza em João Pessoa
DESCRIPTION:MUTIRÃO DE LIMPEZA #EUCUIDODOMEUQUADRADO\nDia 29/02/2020 das 15h às 17h. \nAção educacional e de limpeza nas praias de Tambaú e Cabo Branco. \nRecomendação: Ir com roupa confortável\, boné e tênis. Levar protetor solar e água. \nLocal: Busto de Tamandaré\, João Pessoa/PB\, ao lado do nome “Eu amo Jampa” (Praias de Tambaú e Cabo Branco\, S/N – Cabo Branco). \nDúvidas entre em contato: www.instagram.com/maressemplastico
URL:https://limpabrasil.org/evento/eucuidodomeuquadrado-mutirao-de-limpeza-em-joao-pessoa/
LOCATION:Busto de Tamandaré\, Busto de Tamandaré\, João Pessoa\, PB\, Brasil
CATEGORIES:#EuCuidoDoMeuQuadrado
ATTACH;FMTTYPE=image/png:https://limpabrasil.org/wp-content/uploads/2020/02/EuCuido.png
END:VEVENT
BEGIN:VEVENT
DTSTART;TZID=America/Sao_Paulo:20200315T100000
DTEND;TZID=America/Sao_Paulo:20200315T130000
DTSTAMP:20260424T104408
CREATED:20200203T161540Z
LAST-MODIFIED:20200302T185944Z
UID:20272-1584266400-1584277200@limpabrasil.org
SUMMARY:Mutirão de Limpeza #EuCuidodoMeuQuadrado - São Joaquim\, SP.
DESCRIPTION:Mutirão de Limpeza #EuCuidoDoMeuQuadrado\nLocal de encontro: Rua São Joaquim\, 105 – Térreo\nInicio: 10h – Término: 13h \nAnote na agenda e venha participar do mutirão de limpeza em São Paulo na São Joaquim dia 15 de março. Convide seus amigos para ser um voluntário! \n➡️ Cadastre-se e ganhe moedas Gooders e certificado de participação de 5h válido para horas complementares da universidade: https://is.gd/limpasp4 \n  \nPROGRAMAÇÃO: \n10:00 – Concentração – Rua São Joaquim\, 105 – Térreo \n10:15 – Orientação e distribuição dos IPI’s \n10h30 – Formação dos Grupos \n10h35 – Início do mutirão \n11h35 – Início da Triagem dos resíduos e quantificação tipo. \n13h00 – Encerramento da atividade. \n  \nAcompanhe novidades através do Instagram @limpabrasil \n🌱 Por uma São Paulo mais limpa!
URL:https://limpabrasil.org/evento/mutirao-de-limpeza-eucuidodomeuquadrado-sao-joaquim-sp-2/
LOCATION:Rua São Joaquim\, 105 – São Paulo\, Rua São Joaquim\, 105\, São Paulo\, SP\, Brasil
ORGANIZER;CN="Instituto Limpa Brasil":MAILTO:contato@limpabrasil.org
END:VEVENT
BEGIN:VEVENT
DTSTART;VALUE=DATE:20200322
DTEND;VALUE=DATE:20200323
DTSTAMP:20260424T104408
CREATED:20200203T155906Z
LAST-MODIFIED:20200305T202137Z
UID:20268-1584835200-1584921599@limpabrasil.org
SUMMARY:Dia Mundial da Água
DESCRIPTION:O Dia Mundial da Água é comemorado anualmente em 22 de março. Esta data foi criada com o objetivo de alertar a população internacional sobre a importância da preservação da água para a sobrevivência de todos os ecossistemas do planeta. Para isso\, todos os anos o Dia Mundial da Água aborda um tema específico sobre este mineral de extrema e absoluta importância para a existência da vida. A conscientização sobre a urgência da economia deste recurso natural é uma das principais metas desse dia. A água limpa e potável é um direito humano garantido por lei desde 2010\, de acordo com a Organização das Nações Unidas – ONU. \n  \nFaça parte desta data tão importante realizando ações e atividades como:\n\nPlantio em nascentes e outros locais;\nReduzir consumo de água – em casa\, na escola\, no trabalho.\nFormação de grupos para limpezas de florestas\, rios\, parques locais/municipais/estaduais e praias.;\nOficinas abordando o tema;\nPalestras abordando o tema (a contaminação do ar\, da água e dos solos\, a destruição de ecossistemas\, centenas de milhares de plantas e espécies animais dizimados e o esgotamento de recursos não renováveis);\nEventos online;\nCriação de Comitê de Planejamento para abordagem do tema;\nApresentação ou exibição de filmes sobre o tema em escolas;\nImplantação de reciclagem\, compostagem.\n\n\n\n\n\n\n\n\n\n\n\n\n\n\n\n\nNo Brasil\, o Instituto Limpa Brasil apoia o Movimento Água Corrente.\nHá muitas coisas que as pessoas podem fazer de forma individual e coletiva\, partindo do princípio de que é preciso ter consciência de como a água é valiosa. O Movimento Água Corrente tem como propósito aglutinar mais pessoas em torno da causa\, com atenção especial às crianças\, e engajar a sociedade com ações contínuas que despertem consciência com relação ao bom uso da água e à prevenção da poluição dos recursos hídricos\, além de promover uma relação de afetividade com esse bem comum e divulgar soluções possíveis no dia a dia para economizar água.  \n\n\n\n\nÁgua\nÉ fato conhecido que a água doce é um bem finito e limitado. A água é nosso maior bem e\, ao mesmo tempo\, um grande desafio para a humanidade. As civilizações que conseguiram respeitá-la\, prosperaram. No Brasil se localiza 12% da disponibilidade de água doce superficial do mundo\, sendo este um dos grandes patrimônios do país\, que deve ser conservado. \nSua falta ou escassez causam sérias implicações na sustentabilidade da vida: na cultura humana\, na manutenção dos ecossistemas\, no próprio ciclo hidrológico e\, inclusive\, com impacto econômico. No entanto\, a realidade atual proporciona que sete em cada dez pessoas tenham acesso à água corrente em casa. Assim\, fica fácil esquecer o grande valor da água quando toda vez que abrimos a torneira\, ela está lá\, limpa e em abundância.  \nDados da ONU mostram que\, neste século\, o consumo de água aumentou sete vezes. Isso sem falar nas mudanças climáticas que afetam a água e prolongam os períodos de seca. Além disso\, dados do Sistema Nacional de Indicadores de Saneamento – SIS\, de 2016\, indicam que 37% da água tratada e própria para o consumo no país é desperdiçada.  \nÉ necessário esclarecer a população e incentivar o consumo mais comedido e consciente. Mais do que isso\, é preciso compreender o valor da água. Precisamos reconhecer que cada um de nós\, cidadãos\, empresas e governos\, deve cuidar da água enquanto ainda temos o bastante. Afinal\, o desperdício é um dos principais vilões da escassez.  É muito importante recuperar nossa consciência histórica com esse bem comum. Precisamos salvar a água! \n\n\n\n\nDados sobre a água\n\nDe toda a água que existe no planeta\, 97% é salgada e não podemos beber. Tirar o sal da água é um processo que custa muito caro e inviável atualmente.\nDesses 3% de água doce restante\, 2% está presa em geleiras nos polos do planeta. Para nós\, seres humanos\, resta apenas 1% e a maior parte disso se encontra no subsolo\, onde o acesso é difícil e caro de tirar. \nSomos mais de 7 bilhões de pessoas no planeta para essa quantidade de água. \nDesses 1%\, 25% de água está contaminada\, como é o caso do Rio Pinheiros ou da Baía de Guanabara\, por exemplo.\nDados da Organização das Nações Unidas (ONU) de 2015 indicam que\, até 2040\, a maior parte do mundo não terá água suficiente para o ano inteiro.\nMilhões de pessoas que moram em países em desenvolvimento têm que andar até 6 km por dia para encontrar água potável.\nO Brasil é o país que possui a maior quantidade de água doce do planeta: 12\,8%. Mesmo assim\, em 2014\, diversas cidades brasileiras\, como São Paulo e Minas Gerais\, enfrentaram a maior crise hídrica da história. A água teve que ser racionada\, ou seja\, dependendo do dia da semana e da região onde se encontravam\, o governo cortava a água das casas.\nO desperdício de água tratada\, ou seja\, a água que usamos em casa\, chega a 37%. Podemos dizer que desperdiçamos quase metade da água a que temos acesso.\nLevantamento feito pela Comissão Mundial de Águas mostrou que os 500 maiores rios do planeta enfrentam problemas com a poluição. De acordo com estudo feito pela ONG Food and Water Watch\, cidades que juntas contabilizam mais de 3\,5 bilhões de habitantes vão enfrentar problemas de abastecimento de água em 2025\, como consequência da poluição dos rios.
URL:https://limpabrasil.org/evento/dia-mundial-da-agua/
ORGANIZER;CN="Instituto Limpa Brasil":MAILTO:contato@limpabrasil.org
END:VEVENT
BEGIN:VEVENT
DTSTART;VALUE=DATE:20200422
DTEND;VALUE=DATE:20200423
DTSTAMP:20260424T104408
CREATED:20200203T161655Z
LAST-MODIFIED:20200203T161655Z
UID:20275-1587513600-1587599999@limpabrasil.org
SUMMARY:MIL MUDAS EM 1 MIN - São Vicente/SP
DESCRIPTION:Mais informações em breve
URL:https://limpabrasil.org/evento/mil-mudas-em-1-min-sao-vicente-sp/
ORGANIZER;CN="Instituto Limpa Brasil":MAILTO:contato@limpabrasil.org
END:VEVENT
BEGIN:VEVENT
DTSTART;TZID=America/Sao_Paulo:20220608T200000
DTEND;TZID=America/Sao_Paulo:20220608T210000
DTSTAMP:20260424T104408
CREATED:20220614T190659Z
LAST-MODIFIED:20220614T190659Z
UID:23781-1654718400-1654722000@limpabrasil.org
SUMMARY:Reunião com líderes gestores
DESCRIPTION:
URL:https://limpabrasil.org/evento/reuniao-com-lideres-gestores/
CATEGORIES:#EuCuidoDoMeuQuadrado
END:VEVENT
BEGIN:VEVENT
DTSTART;TZID=America/Sao_Paulo:20220615T200000
DTEND;TZID=America/Sao_Paulo:20220615T210000
DTSTAMP:20260424T104408
CREATED:20220614T191113Z
LAST-MODIFIED:20220614T191113Z
UID:23783-1655323200-1655326800@limpabrasil.org
SUMMARY:Reunião com líderes nacionais
DESCRIPTION:
URL:https://limpabrasil.org/evento/reuniao-com-lideres-nacionais/
CATEGORIES:#EuCuidoDoMeuQuadrado
END:VEVENT
END:VCALENDAR