BEGIN:VCALENDAR
VERSION:2.0
PRODID:-//Limpa Brasil - ECPv6.15.10//NONSGML v1.0//EN
CALSCALE:GREGORIAN
METHOD:PUBLISH
X-ORIGINAL-URL:https://limpabrasil.org
X-WR-CALDESC:Eventos para Limpa Brasil
REFRESH-INTERVAL;VALUE=DURATION:PT1H
X-Robots-Tag:noindex
X-PUBLISHED-TTL:PT1H
BEGIN:VTIMEZONE
TZID:America/Sao_Paulo
BEGIN:STANDARD
TZOFFSETFROM:-0200
TZOFFSETTO:-0300
TZNAME:-03
DTSTART:20170219T020000
END:STANDARD
BEGIN:DAYLIGHT
TZOFFSETFROM:-0300
TZOFFSETTO:-0200
TZNAME:-02
DTSTART:20171015T030000
END:DAYLIGHT
BEGIN:STANDARD
TZOFFSETFROM:-0200
TZOFFSETTO:-0300
TZNAME:-03
DTSTART:20180218T020000
END:STANDARD
BEGIN:DAYLIGHT
TZOFFSETFROM:-0300
TZOFFSETTO:-0200
TZNAME:-02
DTSTART:20181104T030000
END:DAYLIGHT
BEGIN:STANDARD
TZOFFSETFROM:-0200
TZOFFSETTO:-0300
TZNAME:-03
DTSTART:20190217T020000
END:STANDARD
END:VTIMEZONE
BEGIN:VEVENT
DTSTART;TZID=America/Sao_Paulo:20181120T070000
DTEND;TZID=America/Sao_Paulo:20181120T120000
DTSTAMP:20260423T143335
CREATED:20181008T144412Z
LAST-MODIFIED:20181008T144412Z
UID:19622-1542697200-1542715200@limpabrasil.org
SUMMARY:Ação de revitalização
DESCRIPTION:CONTEXTO: Container gigante da Revita acumula lixo de centenas de moradores\, além de uma poça atrás do container em um terreno que deveria ser uma praça (segundo a diretora\, foi uma área verde tempos atrás\, que se degradou com o lixo). O local acumula ratazanas\, lama\, chorume\, muitos animais provocadores de doenças\, e mal cheiro. A escola tem feito movimentações junto da comunidade local para a retirada desse ponto de lixo há alguns anos. O posto de saúde próximo também se movimenta para essa mudança. Atualmente\, estão sendo feitas reuniões para as quais a Limpurb tem sido chamada para se pensar em uma solução. \n  \nSOLUÇÃO ESPERADA: Retirada do container da frente da escola\, coleta porta a porta através de motos ou veículos pequenos para que as pessoas que moram distante não precisem levar o lixo até a porta da escola. Transformação do local em jardim com plantas e painel artístico com apoio do projeto Escola Verde com Afeto (Programa Casa Cidades). A escola conta com alunos muito mobilizados a manter a área bem cuidada e deseja fazer uma conexão com a praça que atualmente está degradada. \nProcurar por Débora.
URL:https://limpabrasil.org/evento/acao-de-revitalizacao-3/
LOCATION:Colégio Estadual Norma Ribeiro\, 2ª Travessa Gilberto Bastos\, 1 - Arenoso\, Salvador\, Bahia\, 41211-840\, Brasil
END:VEVENT
BEGIN:VEVENT
DTSTART;TZID=America/Sao_Paulo:20181113T070000
DTEND;TZID=America/Sao_Paulo:20181113T120000
DTSTAMP:20260423T143335
CREATED:20181008T143536Z
LAST-MODIFIED:20181008T143536Z
UID:19616-1542092400-1542110400@limpabrasil.org
SUMMARY:Workshop para revitalização de escola
DESCRIPTION:CONTEXTO: Container gigante da Revita acumula lixo de centenas de moradores\, além de uma poça atrás do container em um terreno que deveria ser uma praça (segundo a diretora\, foi uma área verde tempos atrás\, que se degradou com o lixo). O local acumula ratazanas\, lama\, chorume\, muitos animais provocadores de doenças\, e mal cheiro. A escola tem feito movimentações junto da comunidade local para a retirada desse ponto de lixo há alguns anos. O posto de saúde próximo também se movimenta para essa mudança. Atualmente\, estão sendo feitas reuniões para as quais a Limpurb tem sido chamada para se pensar em uma solução. \n  \nSOLUÇÃO ESPERADA: Retirada do container da frente da escola\, coleta porta a porta através de motos ou veículos pequenos para que as pessoas que moram distante não precisem levar o lixo até a porta da escola. Transformação do local em jardim com plantas e painel artístico com apoio do projeto Escola Verde com Afeto (Programa Casa Cidades). A escola conta com alunos muito mobilizados a manter a área bem cuidada e deseja fazer uma conexão com a praça que atualmente está degradada. \nProcurar por Débora.Co
URL:https://limpabrasil.org/evento/workshop-para-revitalizacao-de-escola-2/
LOCATION:Colégio Estadual Normal Ribeiro\, 2ª Travessa Gilberto Bastos\, 1 - Arenoso\, Salvador\, Bahia\, 41211-840\, Brasil
END:VEVENT
BEGIN:VEVENT
DTSTART;TZID=America/Sao_Paulo:20181106T070000
DTEND;TZID=America/Sao_Paulo:20181106T120000
DTSTAMP:20260423T143335
CREATED:20181008T143115Z
LAST-MODIFIED:20181008T143115Z
UID:19614-1541487600-1541505600@limpabrasil.org
SUMMARY:Ação de revitalização
DESCRIPTION:CONTEXTO: Há muitas décadas\, a calçada da escola é usada para depósito irregular de lixo e entulho. Há um container defronte a uma entrada para a escola (que foi construída com o objetivo de inibir o acúmulo de lixo). Além de lixo e entulho\, as pessoas acumulam sofá\, fogão\, cama e outros móveis e eletrodomésticos descartados. Mesmo com o caminhão passando uma vez ao dia\, o lixo é constantemente presente. Quando chove\, junta lixo e lama. Existe um posto de saúde\, uma igreja e uma praça (sendo reformada) próximos ao ponto de lixo. Uma aluna já foi atropelada ao ter que sair do passeio por conta do lixo. Já foram realizadas reuniões com a Limpurb\, envolvendo moradores locais\, foram feitas passeatas e contato com o Ministério Público\, mas a situação não foi resolvida. Também houve ações junto da UFBA. \n  \nSOLUÇÃO ESPERADA: Retirada do container\, coleta porta a porta através de motos ou veículos pequenos para que as pessoas não precisem levar o lixo até a porta da escola. Transformação do local em jardim com plantas e painel artístico com apoio do projeto Escola Verde com Afeto (Programa Casa Cidades). A escola conta com alunos muito mobilizados a manter a área bem cuidada e deseja fazer uma conexão entre essa esquina e a praça que está sendo reformada. \nProcurar por Débora. \nObs: Rua Benjamin Abdon S/N Fim de Linha – Zona Urbana\, R. Paulo Hélio de Carvalho – Mata Escura\, Salvador – BA
URL:https://limpabrasil.org/evento/acao-de-revitalizacao-2/
LOCATION:Colégio Estadual Professora Marileine da Silva\, Rua Benjamin Abdon S/N Fim de Linha - Zona Urbana\, Salvador\, Bahia\, Brasil
END:VEVENT
BEGIN:VEVENT
DTSTART;TZID=America/Sao_Paulo:20181030T070000
DTEND;TZID=America/Sao_Paulo:20181030T120000
DTSTAMP:20260423T143335
CREATED:20181008T142504Z
LAST-MODIFIED:20181008T142504Z
UID:19609-1540882800-1540900800@limpabrasil.org
SUMMARY:Workshop para revitalização de escola
DESCRIPTION:CONTEXTO: Há muitas décadas\, a calçada da escola é usada para depósito irregular de lixo e entulho. Há um container defronte a uma entrada para a escola (que foi construída com o objetivo de inibir o acúmulo de lixo). Além de lixo e entulho\, as pessoas acumulam sofá\, fogão\, cama e outros móveis e eletrodomésticos descartados. Mesmo com o caminhão passando uma vez ao dia\, o lixo é constantemente presente. Quando chove\, junta lixo e lama. Existe um posto de saúde\, uma igreja e uma praça (sendo reformada) próximos ao ponto de lixo. Uma aluna já foi atropelada ao ter que sair do passeio por conta do lixo. Já foram realizadas reuniões com a Limpurb\, envolvendo moradores locais\, foram feitas passeatas e contato com o Ministério Público\, mas a situação não foi resolvida. Também houve ações junto da UFBA. \n  \nSOLUÇÃO ESPERADA: Retirada do container\, coleta porta a porta através de motos ou veículos pequenos para que as pessoas não precisem levar o lixo até a porta da escola. Transformação do local em jardim com plantas e painel artístico com apoio do projeto Escola Verde com Afeto (Programa Casa Cidades). A escola conta com alunos muito mobilizados a manter a área bem cuidada e deseja fazer uma conexão entre essa esquina e a praça que está sendo reformada. \nProcurar por Débora. \nObs: Rua Benjamin Abdon S/N Fim de Linha – Zona Urbana\, R. Paulo Hélio de Carvalho – Mata Escura\, Salvador – BA
URL:https://limpabrasil.org/evento/workshop-para-revitalizacao-de-escola/
LOCATION:Colégio Estadual Professora Marileine da Silva\, Rua Benjamin Abdon S/N Fim de Linha - Zona Urbana\, Salvador\, Bahia\, Brasil
END:VEVENT
BEGIN:VEVENT
DTSTART;TZID=America/Sao_Paulo:20181027T090000
DTEND;TZID=America/Sao_Paulo:20181027T120000
DTSTAMP:20260423T143335
CREATED:20181010T191513Z
LAST-MODIFIED:20181019T160646Z
UID:19641-1540630800-1540641600@limpabrasil.org
SUMMARY:Ibira Lixo Zero
DESCRIPTION:A Semana Lixo Zero acontece entre os dias 19 a 27 de outubro\, e para comemorar\, nós e a ONG #SeuLixoMeu estaremos no Parque Ibirapuera no dia 27/10/2018 promovendo mutirão de limpeza com vocês!!\n\n\nTeremos triagem dos materiais coletados\, frutas\, programação infantil e muito e mais!\n\n\n \n\n\nEsperamos vocês lá!!!\n\n\n \n\n\nLocal: Av. Pedro Álvares Cabral\, s/n – Parque Ibirapuera\n\n\nData: 27/10/2018\n\n\nHorário: 09h00 – 12h00\nPonto de encontro: marquise do parque – próximo ao banheiro da aranha\n\n\nPara maiores informações: contato@limpabrasil.org ou seulixomeu@gmail.com\n\n\n#SemanaLixoZero #LimpaBrasil #SeuLixoMeu
URL:https://limpabrasil.org/evento/eu-sou-catador/
LOCATION:Bahia
ATTACH;FMTTYPE=image/jpeg:https://limpabrasil.org/wp-content/uploads/2018/10/WhatsApp-Image-2018-10-19-at-11.02.01.jpeg
END:VEVENT
BEGIN:VEVENT
DTSTART;TZID=America/Sao_Paulo:20181023T070000
DTEND;TZID=America/Sao_Paulo:20181023T120000
DTSTAMP:20260423T143335
CREATED:20181008T141848Z
LAST-MODIFIED:20181008T141848Z
UID:19605-1540278000-1540296000@limpabrasil.org
SUMMARY:Ação de revitalização
DESCRIPTION:CONTEXTO: Depósito irregular de lixo e entulho com presença de container da Revita em terreno com acúmulo de água de nascedouro próximo. Depósito de móveis\, entulho e muitos resíduos orgânicos\, presença de ratos e outros animais transmissores de doenças\, defronte à escola. \nSOLUÇÃO ESPERADA: Retirada do container\, coleta porta a porta através de motos ou veículos pequenos para que as pessoas não precisem levar o lixo até a porta da escola. Transformação do local em jardim com plantas e painel artístico com apoio do projeto Escola Verde com Afeto (Programa Casa Cidades). A escola deseja preservar a área\, onde se acumula água limpa do nascedouro próximo. Alunos da escola que desenvolvem horta no espaço interno desejam plantar neste espaço para recuperar as plantas locais. \nAção de revitalização de espaço. \nProcurar por Débora.
URL:https://limpabrasil.org/evento/acao-de-revitalizacao/
LOCATION:Colégio estadual Civita\, R. Dique Pequeno\, S/N - Vasco da Gama\, Salvador\, Bahia\, 40240-110\, Brasil
END:VEVENT
BEGIN:VEVENT
DTSTART;TZID=America/Sao_Paulo:20181016T070000
DTEND;TZID=America/Sao_Paulo:20181016T120000
DTSTAMP:20260423T143335
CREATED:20181008T141458Z
LAST-MODIFIED:20181008T141458Z
UID:19601-1539673200-1539691200@limpabrasil.org
SUMMARY:Workshop para ação de revitalização
DESCRIPTION:CONTEXTO: Depósito irregular de lixo e entulho com presença de container da Revita em terreno com acúmulo de água de nascedouro próximo. Depósito de móveis\, entulho e muitos resíduos orgânicos\, presença de ratos e outros animais transmissores de doenças\, defronte à escola. \nSOLUÇÃO ESPERADA: Retirada do container\, coleta porta a porta através de motos ou veículos pequenos para que as pessoas não precisem levar o lixo até a porta da escola. Transformação do local em jardim com plantas e painel artístico com apoio do projeto Escola Verde com Afeto (Programa Casa Cidades). A escola deseja preservar a área\, onde se acumula água limpa do nascedouro próximo. Alunos da escola que desenvolvem horta no espaço interno desejam plantar neste espaço para recuperar as plantas locais. \nWorkshop para ação de revitalização a ser realizada dias depois. \nProcurar por Débora.
URL:https://limpabrasil.org/evento/workshop-para-acao-de-revitalizacao/
LOCATION:Colégio Estadual Victor Civita\, R. Dique Pequeno\, S/N - Vasco da Gama\, Salvador\, Bahia\, 40240-110\, Brasil
END:VEVENT
BEGIN:VEVENT
DTSTART;TZID=America/Sao_Paulo:20181009T070000
DTEND;TZID=America/Sao_Paulo:20181009T130000
DTSTAMP:20260423T143335
CREATED:20181008T133946Z
LAST-MODIFIED:20181008T133946Z
UID:19579-1539068400-1539090000@limpabrasil.org
SUMMARY:Ação de revitalização de espaço
DESCRIPTION:CONTEXTO: Depósito irregular de lixo e entulho diretamente no passeio de duas escolas. Acúmulo de água e de animais como ratos e mosquitos\, problema com chorume e mau cheiro mais intenso em dias de chuva. Acúmulo diário com volumes variáveis antes e pós-coleta. Coleta diária não dá conta de eliminar o lixo. \nSOLUÇÃO ESPERADA: Coleta porta a porta da Limpurb para que as pessoas parem de despejar o lixo na calçada da escola. Transformação do local em jardim com plantas e painel artístico com apoio do projeto Escola Verde com Afeto (Programa Casa Cidades) com participação da escola\, que vai mobilizar a comunidade local. \nAção de transformação do local dia 09/10 a partir das 7h00. \nProcurar por Débora.
URL:https://limpabrasil.org/evento/acao-de-revitalizacao-de-espaco/
LOCATION:Escola Municipal Eufrosina Miranda\, Rua Aterro Joanes\, 96 - Lobato\, Brasil\, Bahia\, 40470-690\, Brasil
END:VEVENT
BEGIN:VEVENT
DTSTART;TZID=America/Sao_Paulo:20180916T073000
DTEND;TZID=America/Sao_Paulo:20180916T130000
DTSTAMP:20260423T143335
CREATED:20180831T172154Z
LAST-MODIFIED:20180831T172522Z
UID:19201-1537083000-1537102800@limpabrasil.org
SUMMARY:I treino de corrida e caminhada: do meu copo cuido eu!
DESCRIPTION:
URL:https://limpabrasil.org/evento/i-treino-de-corrida-e-caminhada-do-meu-copo-cuido-eu/
LOCATION:Parque Jacuí\, São Paulo\, 08071-100
END:VEVENT
BEGIN:VEVENT
DTSTART;TZID=America/Sao_Paulo:20180915T150000
DTEND;TZID=America/Sao_Paulo:20180915T180000
DTSTAMP:20260423T143335
CREATED:20180904T164805Z
LAST-MODIFIED:20180904T164805Z
UID:19261-1537023600-1537034400@limpabrasil.org
SUMMARY:CE - Fortaleza -Praia de Iracema
DESCRIPTION:Mutirão Dia Mundia de Limpeza – Movimento Let’s Do It! – Limpa Brasil. \nConcentração: Em frente ao Hotel Sonata de Iracema – Av. Beira Mar\, 848 – Praia de Iracema
URL:https://limpabrasil.org/evento/ce-fortaleza-praia-de-iracema/
LOCATION:Praia de Iracema\, Av. Beira Mar\, 848 - Praia de Iracema\, Fortaleza\, CE\, Brasil
ORGANIZER;CN="Limpa Brasil":MAILTO:atendimento@limpabrasil.org
END:VEVENT
BEGIN:VEVENT
DTSTART;TZID=America/Sao_Paulo:20180915T150000
DTEND;TZID=America/Sao_Paulo:20180915T180000
DTSTAMP:20260423T143335
CREATED:20180904T163934Z
LAST-MODIFIED:20180904T164059Z
UID:19257-1537023600-1537034400@limpabrasil.org
SUMMARY:CE - Aquiraz - Porto das Dunas/Beach Park
DESCRIPTION:Mutirão Dia Mundia de Limpeza – Movimento Let’s Do It! – Limpa Brasil. \nConcentração: Beach Park
URL:https://limpabrasil.org/evento/ce-aquiraz-porto-das-dunas-beach-park/
LOCATION:Beach Park\, Rua Porto das Dunas\, 2734\, Porto das Dunas\, Aquiraz\, CE\, Brasil
END:VEVENT
BEGIN:VEVENT
DTSTART;TZID=America/Sao_Paulo:20180915T140000
DTEND;TZID=America/Sao_Paulo:20180915T183000
DTSTAMP:20260423T143335
CREATED:20180906T171450Z
LAST-MODIFIED:20180910T170704Z
UID:19405-1537020000-1537036200@limpabrasil.org
SUMMARY:AP - Macapá - Praça do Kitesurf
DESCRIPTION:Mutirão Dia Mundia de Limpeza – Movimento Let’s Do It! – Limpa Brasil \nConcentração: Praça do Kitesurf\, orla do Bairro Perpétuo Socorro \n 
URL:https://limpabrasil.org/evento/ap-macapa-praca-do-kitesurf/
LOCATION:AVAP – Associação dos Velejadores do Amapá\, Av. Joséfa Pelaes de Souza\, 2 - Cidade Nova\, Macapá\, AP\, Brasil
END:VEVENT
BEGIN:VEVENT
DTSTART;TZID=America/Sao_Paulo:20180915T140000
DTEND;TZID=America/Sao_Paulo:20180915T180000
DTSTAMP:20260423T143335
CREATED:20180906T154357Z
LAST-MODIFIED:20180910T162930Z
UID:19383-1537020000-1537034400@limpabrasil.org
SUMMARY:MG - Viçosa - Usina de Triagem
DESCRIPTION:Mutirão Dia Mundia de Limpeza – Movimento Let’s Do It! – Limpa Brasil. \nConcentração: Usina de Triagem –  ACAMARE – Associação dos Trabalhadores da Usina de Triagem e Reciclagem de Viçosa.
URL:https://limpabrasil.org/evento/mg-vicosa-usina-de-triagem/
LOCATION:Usina de Triagem\, BR 120\, KM 6\, Viçosa\, MG\, Brasil
ORGANIZER;CN="Nina Rosa":MAILTO:ninarosa88@gmail.com
END:VEVENT
BEGIN:VEVENT
DTSTART;TZID=America/Sao_Paulo:20180915T140000
DTEND;TZID=America/Sao_Paulo:20180915T140000
DTSTAMP:20260423T143335
CREATED:20180912T140834Z
LAST-MODIFIED:20180912T140834Z
UID:19465-1537020000-1537020000@limpabrasil.org
SUMMARY:SP - São Paulo -Praça Agostinho Nohama
DESCRIPTION:Mutirão Dia Mundia de Limpeza – Movimento Let’s Do It! – Limpeza de Praias \nConcentração: Praça Agostinho Nohama
URL:https://limpabrasil.org/evento/sp-sao-paulo-praca-agostinho-nohama/
LOCATION:Praça Agostinho Nohama – Lauzane Paulista\, Praça Agostinho Nohama - Lauzane Paulista\, São Paulo\, SP\, Brasil
ORGANIZER;CN="Ruan Campos":MAILTO:ruan.campos99@gmail.com
END:VEVENT
BEGIN:VEVENT
DTSTART;TZID=America/Sao_Paulo:20180915T133000
DTEND;TZID=America/Sao_Paulo:20180915T150000
DTSTAMP:20260423T143335
CREATED:20180906T170424Z
LAST-MODIFIED:20180906T170424Z
UID:19402-1537018200-1537023600@limpabrasil.org
SUMMARY:BA - Cairu - Morro de São Paulo
DESCRIPTION:Mutirão Dia Mundia de Limpeza – Movimento Let’s Do It! – Limpa Brasil \nAções de mutirão de limpeza terrestre ocorrerão nos locais: Primeira Praia \, Segunda Praia\, Terceira Praia\, Quarta Praia\, Quinta Praia \, Praia Gamboa do Morro\, Bairro da Lago. \nLimpeza submarina: Terceira Praia \nLimpeza superfície aquática de Caiaque: Praia Segunda\, Praia Terceira e Praia Quarta.
URL:https://limpabrasil.org/evento/ba-cairu-morro-de-sao-paulo/
LOCATION:Morro de São Paulo\, Morro de São Paulo\, Cairu\, BA\, Brasil
END:VEVENT
BEGIN:VEVENT
DTSTART;TZID=America/Sao_Paulo:20180915T133000
DTEND;TZID=America/Sao_Paulo:20180915T133000
DTSTAMP:20260423T143335
CREATED:20180912T145150Z
LAST-MODIFIED:20180912T145150Z
UID:19473-1537018200-1537018200@limpabrasil.org
SUMMARY:RS - Santa Maria - Parque Itaimbé
DESCRIPTION:Mutirão Dia Mundia de Limpeza – Movimento Let’s Do It! – Limpa Brasil. \nConcentração: Parque Itaimbé
URL:https://limpabrasil.org/evento/rs-santa-maria-parque-itaimbe/
LOCATION:Parque Itaimbé\, Av. Itaimbé\, Bairro Centro\, Santa Maria\, RS\, Brasil
ORGANIZER;CN="Mhaiandry Benedetti Rodrigues":MAILTO:mhayforest@gmail.com
END:VEVENT
BEGIN:VEVENT
DTSTART;TZID=America/Sao_Paulo:20180915T100000
DTEND;TZID=America/Sao_Paulo:20180915T100000
DTSTAMP:20260423T143335
CREATED:20180912T141447Z
LAST-MODIFIED:20180912T141447Z
UID:19469-1537005600-1537005600@limpabrasil.org
SUMMARY:SP - São Paulo - Praça Comandante Eduardo de Oliveira
DESCRIPTION:Mutirão Dia Mundia de Limpeza – Movimento Let’s Do It! – Limpa Brasil \nConcentração: Praça Comandante Eduardo de Oliveira – Parque Edu Chaves
URL:https://limpabrasil.org/evento/sp-sao-paulo-praca-comandante-eduardo-de-oliveira/
LOCATION:Praça Comandante Eduardo de Oliveira – Parque Edu Chaves\, Praça Comandante Eduardo de Oliveira - Parque Edu Chaves\, São Paulo\, SP\, Brasil
ORGANIZER;CN="Professor Heleno":MAILTO:heleno2007@bol.com.br
END:VEVENT
BEGIN:VEVENT
DTSTART;TZID=America/Sao_Paulo:20180915T090000
DTEND;TZID=America/Sao_Paulo:20180915T170000
DTSTAMP:20260423T143335
CREATED:20180913T122443Z
LAST-MODIFIED:20180913T122443Z
UID:19505-1537002000-1537030800@limpabrasil.org
SUMMARY:PE - Garanhuns - Parque Euclides Dourado
DESCRIPTION:Mutirão Dia Mundia de Limpeza – Movimento Let’s Do It! – Limpa Brasil. \nConcentração: Parque Euclides Dourado
URL:https://limpabrasil.org/evento/pe-garanhuns-parque-euclides-dourado/
LOCATION:Parque Euclides Dourado\, Parque Euclides Dourado\, Garanhuns\, PE\, Brasil
END:VEVENT
BEGIN:VEVENT
DTSTART;TZID=America/Sao_Paulo:20180915T090000
DTEND;TZID=America/Sao_Paulo:20180915T130000
DTSTAMP:20260423T143335
CREATED:20180906T165023Z
LAST-MODIFIED:20180906T165023Z
UID:19399-1537002000-1537016400@limpabrasil.org
SUMMARY:GO - Anápolis - Margem do Córrego das Antas
DESCRIPTION:Mutirão Dia Mundia de Limpeza – Movimento Let’s Do It! – Limpa Brasil. \nA ação ocorrerá na Margem do Córrego das Antas entre os Bairros Santa Maria e São Carlos
URL:https://limpabrasil.org/evento/go-anapolis-margem-do-corrego-das-antas/
LOCATION:Margem do Córrego das Antas\, Margem do Córrego das Antas entre os Bairros\, Anápolis\, GO\, Brasil
END:VEVENT
BEGIN:VEVENT
DTSTART;TZID=America/Sao_Paulo:20180915T090000
DTEND;TZID=America/Sao_Paulo:20180915T130000
DTSTAMP:20260423T143335
CREATED:20180906T162642Z
LAST-MODIFIED:20180906T162642Z
UID:19396-1537002000-1537016400@limpabrasil.org
SUMMARY:GO - Anápolis - Avenida Miguel João\,  Bairro Batista
DESCRIPTION:Mutirão Dia Mundia de Limpeza – Movimento Let’s Do It! – Limpa Brasil. \n 
URL:https://limpabrasil.org/evento/go-anapolis-avenida-miguel-joao-bairro-batista/
LOCATION:Avenida Miguel João\,  Bairro Batista\, Avenida Miguel João\, Bairro Batista\, Anápolis\, GO\, Brasil
END:VEVENT
BEGIN:VEVENT
DTSTART;TZID=America/Sao_Paulo:20180915T090000
DTEND;TZID=America/Sao_Paulo:20180915T120000
DTSTAMP:20260423T143335
CREATED:20180911T134913Z
LAST-MODIFIED:20180911T134913Z
UID:19440-1537002000-1537012800@limpabrasil.org
SUMMARY:PB - Campina Grande - Praça da Bandeira
DESCRIPTION:Mutirão Dia Mundia de Limpeza – Movimento Let’s Do It! – Limpa Brasil \n 
URL:https://limpabrasil.org/evento/pb-campina-grande-praca-da-bandeira/
LOCATION:Praça da Bandeira\, Praça da Bandeira\, Campina Grande\, PB\, Brasil
END:VEVENT
BEGIN:VEVENT
DTSTART;TZID=America/Sao_Paulo:20180915T090000
DTEND;TZID=America/Sao_Paulo:20180915T120000
DTSTAMP:20260423T143335
CREATED:20180906T154737Z
LAST-MODIFIED:20180906T154737Z
UID:19385-1537002000-1537012800@limpabrasil.org
SUMMARY:BA - Trancoso - Praça da Independência
DESCRIPTION:Mutirão Dia Mundia de Limpeza – Movimento Let’s Do It! – Limpa Brasil. \nConcentração: Praça da Independência
URL:https://limpabrasil.org/evento/ba-trancoso-praca-da-independencia/
LOCATION:Praça da Independência\, Praça da Independência\, Trancoso\, BA\, 40420-610\, Brasil
ORGANIZER;CN="Recicla Trancoso":MAILTO:cali.ferreira@gmail.com
END:VEVENT
BEGIN:VEVENT
DTSTART;TZID=America/Sao_Paulo:20180915T090000
DTEND;TZID=America/Sao_Paulo:20180915T120000
DTSTAMP:20260423T143335
CREATED:20180906T153530Z
LAST-MODIFIED:20180906T153530Z
UID:19377-1537002000-1537012800@limpabrasil.org
SUMMARY:MG - Viçosa - Praça Silviano Brandão
DESCRIPTION:Mutirão Dia Mundia de Limpeza – Movimento Let’s Do It! – Limpa Brasil. \nEntrega voluntária de eletroeletrônicos da linha verde (microcomputadores\, laptops\, tablets\, celulares e variações). \nOs participantes que entregarem seus eletroeletrônicos receberão um bilhete com número para concorrer ao sorteio de um notebook remanufaturado\, um presente da Recicladora Urbana. Quanto mais eletroeletrônicos você levar\,\nmais chances terá de ganhar o notebook!
URL:https://limpabrasil.org/evento/mg-vicosa-praca-silviano-brandao/
LOCATION:Praça Silviano\, Praça Silviano\, Viçosa\, MG\, Brasil
END:VEVENT
BEGIN:VEVENT
DTSTART;TZID=America/Sao_Paulo:20180915T090000
DTEND;TZID=America/Sao_Paulo:20180915T120000
DTSTAMP:20260423T143335
CREATED:20180905T151639Z
LAST-MODIFIED:20180905T151639Z
UID:19353-1537002000-1537012800@limpabrasil.org
SUMMARY:SP - São Paulo - Parque Raposo Tavares
DESCRIPTION:Mutirão Dia Mundia de Limpeza – Movimento Let’s Do It! – Limpa Brasil. \nConcentração: Portão da Administração / Portão 1 – Rua Telmo Coelho Filho
URL:https://limpabrasil.org/evento/sp-sao-paulo-parque-raposo-tavares/
LOCATION:Parque Raposo Tavares\, Rua Telmo Coelho Filho\, São Paulo\, SP\, Brasil
ORGANIZER;CN="Limpa Brasil":MAILTO:atendimento@limpabrasil.org
END:VEVENT
BEGIN:VEVENT
DTSTART;TZID=America/Sao_Paulo:20180915T090000
DTEND;TZID=America/Sao_Paulo:20180915T120000
DTSTAMP:20260423T143335
CREATED:20180905T145731Z
LAST-MODIFIED:20180905T145731Z
UID:19348-1537002000-1537012800@limpabrasil.org
SUMMARY:SP - São Paulo - Parque do Carmo
DESCRIPTION:Mutirão Dia Mundia de Limpeza – Movimento Let’s Do It! – Limpa Brasil. \n 
URL:https://limpabrasil.org/evento/sp-sao-paulo-parque-do-carmo/
LOCATION:Parque do Carmo\, Av. Afonso de Sampaio e Sousa\, 951 - Itaquera\, São Paulo\, SP\, Brasil
ORGANIZER;CN="Limpa Brasil":MAILTO:atendimento@limpabrasil.org
END:VEVENT
BEGIN:VEVENT
DTSTART;TZID=America/Sao_Paulo:20180915T090000
DTEND;TZID=America/Sao_Paulo:20180915T120000
DTSTAMP:20260423T143335
CREATED:20180905T145240Z
LAST-MODIFIED:20180905T145240Z
UID:19344-1537002000-1537012800@limpabrasil.org
SUMMARY:SP - São Paulo - Parque Candido Portinari
DESCRIPTION:Mutirão Dia Mundia de Limpeza – Movimento Let’s Do It! – Limpa Brasil. \nConcentração: Quadras Parque Candido Portinari
URL:https://limpabrasil.org/evento/sp-sao-paulo-parque-candido-portinari/
LOCATION:Parque Candido Portinari\, Av. Queiroz Filho\, 1365 - Vila Hamburguesa\, São Paulo\, SP\, Brasil
ORGANIZER;CN="Limpa Brasil":MAILTO:atendimento@limpabrasil.org
END:VEVENT
BEGIN:VEVENT
DTSTART;TZID=America/Sao_Paulo:20180915T090000
DTEND;TZID=America/Sao_Paulo:20180915T120000
DTSTAMP:20260423T143335
CREATED:20180905T144133Z
LAST-MODIFIED:20180905T144133Z
UID:19341-1537002000-1537012800@limpabrasil.org
SUMMARY:SP - São Paulo - Parque do Ibirapuera
DESCRIPTION:Mutirão Dia Mundia de Limpeza – Movimento Let’s Do It! – Limpa Brasil. \nConcentração: Marquise – Av. Pedro Álvares Cabral\, s/n – Vila Mariana
URL:https://limpabrasil.org/evento/sp-sao-paulo-parque-do-ibirapuera/
LOCATION:Parque do Ibirapuera\, Av. Pedro Álvares Cabral\, s/n - Vila Mariana\, São Paulo\, SP\, Brasil
ORGANIZER;CN="Limpa Brasil":MAILTO:atendimento@limpabrasil.org
END:VEVENT
BEGIN:VEVENT
DTSTART;TZID=America/Sao_Paulo:20180915T090000
DTEND;TZID=America/Sao_Paulo:20180915T120000
DTSTAMP:20260423T143335
CREATED:20180905T143421Z
LAST-MODIFIED:20180905T143421Z
UID:19331-1537002000-1537012800@limpabrasil.org
SUMMARY:SC - Palhoça - Praia do Sonho
DESCRIPTION:Mutirão Dia Mundia de Limpeza – Movimento Let’s Do It! – Limpa Brasil. \nConcentração: Em frente ao Salva Vidas – Praia do Sonho
URL:https://limpabrasil.org/evento/sc-palhoca-praia-do-sonho/
LOCATION:Praia do Sonho\, Praia do Sonho\, Palhoça\, SC\, Brasil
ORGANIZER;CN="Tati Alc%C3%A2ntara Ribeiro F.":MAILTO:tatialcantararibeiro@yahoo.com.br
END:VEVENT
BEGIN:VEVENT
DTSTART;TZID=America/Sao_Paulo:20180915T090000
DTEND;TZID=America/Sao_Paulo:20180915T120000
DTSTAMP:20260423T143335
CREATED:20180904T195611Z
LAST-MODIFIED:20180904T200016Z
UID:19312-1537002000-1537012800@limpabrasil.org
SUMMARY:RN - Pendências - Praça das Rocas
DESCRIPTION:Mutirão Dia Mundia d e Limpeza – Movimento Let’s Do It! – Limpa Brasil \nConcentração:Praça das Rocas
URL:https://limpabrasil.org/evento/rn-pendencias-praca-das-rocas/
LOCATION:Praça das Rocas\,  R. Professore Deusa Bonifacio\, Pendências\, Pendências\, RN\, Brasil
ORGANIZER;CN="100/RN Grupo de Escoteiros Dinizulu":MAILTO:alex.souza154@gmail.com
END:VEVENT
BEGIN:VEVENT
DTSTART;TZID=America/Sao_Paulo:20180915T090000
DTEND;TZID=America/Sao_Paulo:20180915T120000
DTSTAMP:20260423T143335
CREATED:20180904T173520Z
LAST-MODIFIED:20180904T173520Z
UID:19300-1537002000-1537012800@limpabrasil.org
SUMMARY:PE - Recife - Praia de Boa Viagem
DESCRIPTION:Mutirão Dia Mundia de Limpeza – Movimento Let’s Do It! – Limpa Brasil. \nConcentração: Av. Beira Mar\, s/n. Em frente ao Hotel Internacional Palace
URL:https://limpabrasil.org/evento/pe-recife-praia-de-boa-viagem/
LOCATION:Praia de Boa Viagem\, Av. Beira Mar\, s/n.\, Recife\, PE\, Brasil
ORGANIZER;CN="Limpa Brasil":MAILTO:atendimento@limpabrasil.org
END:VEVENT
END:VCALENDAR