BEGIN:VCALENDAR
VERSION:2.0
PRODID:-//Limpa Brasil - ECPv6.15.10//NONSGML v1.0//EN
CALSCALE:GREGORIAN
METHOD:PUBLISH
X-WR-CALNAME:Limpa Brasil
X-ORIGINAL-URL:https://limpabrasil.org
X-WR-CALDESC:Eventos para Limpa Brasil
REFRESH-INTERVAL;VALUE=DURATION:PT1H
X-Robots-Tag:noindex
X-PUBLISHED-TTL:PT1H
BEGIN:VTIMEZONE
TZID:America/Sao_Paulo
BEGIN:STANDARD
TZOFFSETFROM:-0200
TZOFFSETTO:-0300
TZNAME:-03
DTSTART:20170219T020000
END:STANDARD
BEGIN:DAYLIGHT
TZOFFSETFROM:-0300
TZOFFSETTO:-0200
TZNAME:-02
DTSTART:20171015T030000
END:DAYLIGHT
BEGIN:STANDARD
TZOFFSETFROM:-0200
TZOFFSETTO:-0300
TZNAME:-03
DTSTART:20180218T020000
END:STANDARD
BEGIN:DAYLIGHT
TZOFFSETFROM:-0300
TZOFFSETTO:-0200
TZNAME:-02
DTSTART:20181104T030000
END:DAYLIGHT
BEGIN:STANDARD
TZOFFSETFROM:-0200
TZOFFSETTO:-0300
TZNAME:-03
DTSTART:20190217T020000
END:STANDARD
END:VTIMEZONE
BEGIN:VEVENT
DTSTART;TZID=America/Sao_Paulo:20181030T070000
DTEND;TZID=America/Sao_Paulo:20181030T120000
DTSTAMP:20260423T083907
CREATED:20181008T142504Z
LAST-MODIFIED:20181008T142504Z
UID:19609-1540882800-1540900800@limpabrasil.org
SUMMARY:Workshop para revitalização de escola
DESCRIPTION:CONTEXTO: Há muitas décadas\, a calçada da escola é usada para depósito irregular de lixo e entulho. Há um container defronte a uma entrada para a escola (que foi construída com o objetivo de inibir o acúmulo de lixo). Além de lixo e entulho\, as pessoas acumulam sofá\, fogão\, cama e outros móveis e eletrodomésticos descartados. Mesmo com o caminhão passando uma vez ao dia\, o lixo é constantemente presente. Quando chove\, junta lixo e lama. Existe um posto de saúde\, uma igreja e uma praça (sendo reformada) próximos ao ponto de lixo. Uma aluna já foi atropelada ao ter que sair do passeio por conta do lixo. Já foram realizadas reuniões com a Limpurb\, envolvendo moradores locais\, foram feitas passeatas e contato com o Ministério Público\, mas a situação não foi resolvida. Também houve ações junto da UFBA. \n  \nSOLUÇÃO ESPERADA: Retirada do container\, coleta porta a porta através de motos ou veículos pequenos para que as pessoas não precisem levar o lixo até a porta da escola. Transformação do local em jardim com plantas e painel artístico com apoio do projeto Escola Verde com Afeto (Programa Casa Cidades). A escola conta com alunos muito mobilizados a manter a área bem cuidada e deseja fazer uma conexão entre essa esquina e a praça que está sendo reformada. \nProcurar por Débora. \nObs: Rua Benjamin Abdon S/N Fim de Linha – Zona Urbana\, R. Paulo Hélio de Carvalho – Mata Escura\, Salvador – BA
URL:https://limpabrasil.org/evento/workshop-para-revitalizacao-de-escola/
LOCATION:Colégio Estadual Professora Marileine da Silva\, Rua Benjamin Abdon S/N Fim de Linha - Zona Urbana\, Salvador\, Bahia\, Brasil
END:VEVENT
END:VCALENDAR